BEGIN:VCALENDAR
VERSION:2.0
PRODID:-//Theater kuenstlerhaus43 im Palasthotel Wiesbaden - ECPv6.11.2//NONSGML v1.0//EN
CALSCALE:GREGORIAN
METHOD:PUBLISH
X-WR-CALNAME:Theater kuenstlerhaus43 im Palasthotel Wiesbaden
X-ORIGINAL-URL:https://kuenstlerhaus43.de
X-WR-CALDESC:Veranstaltungen für Theater kuenstlerhaus43 im Palasthotel Wiesbaden
REFRESH-INTERVAL;VALUE=DURATION:PT1H
X-Robots-Tag:noindex
X-PUBLISHED-TTL:PT1H
BEGIN:VTIMEZONE
TZID:Europe/Berlin
BEGIN:DAYLIGHT
TZOFFSETFROM:+0100
TZOFFSETTO:+0200
TZNAME:CEST
DTSTART:20260329T010000
END:DAYLIGHT
BEGIN:STANDARD
TZOFFSETFROM:+0200
TZOFFSETTO:+0100
TZNAME:CET
DTSTART:20261025T010000
END:STANDARD
END:VTIMEZONE
BEGIN:VEVENT
DTSTART;TZID=Europe/Berlin:20260313T193000
DTEND;TZID=Europe/Berlin:20260313T220000
DTSTAMP:20260421T073427
CREATED:20260206T092032Z
LAST-MODIFIED:20260307T182239Z
UID:10000771-1773430200-1773439200@kuenstlerhaus43.de
SUMMARY:Bilder deiner großen Liebe | Premiere
DESCRIPTION:Vom Erfolgsautor von „TSCHICK“: Wolfgang Herrndorf \n„Verrückt sein heißt ja nur\, dass man verrückt ist\, und nicht bescheuert“. \nIsa hat einen Knacks. Das ist der freundliche Ausdruck dafür\, im Hirn nicht ganz gerade zu sein. Deshalb lebt sie hinter einer doppelt gesicherten Tür. Deshalb steht sie an einem Fenster aus Sicherheitsglas. Doch Isa haut ab. Da gibt es die Autobahn\, das brüllende Monster aus Beton. Der ist kalt. Doch Schatten brennen sich auf ihm ein wie eine Tätowierung\, von allen\, die da gehen\, die Isa begegnen: Fremde Fremde und Gestalten sonderbar seltsam. \nEin Road-Movie voller Poesie\, mit so vielen Fragen zu Sinn und Suche\, mal zum Lachen\, mal zum Weinen. „Ich kann mich nicht erinnern. Es gibt ein Bild von mir\, wo ich eine Schultüte habe\, und die Schultüte ist gelb.“ Die Bilder verschwimmen wie die Gedanken verschwimmen schwimmen schwimmen fort. \n„Herrndorfs Poesie ist pur und direkt\, unendlich traurig und berückend schön“\, schreibt die Frankfurter Rundschau. Bekannt wurde der Berliner Autor im Jahr 2010 durch seinen Bestsellerroman „Tschick“. Den Plot über die ungewöhnliche Freundschaft zweier Außenseiter verfilmte Regisseur Fatih Akin. \nHerrndorfs Roman „Bilder deiner großen Liebe“ ist sozusagen ein Spin-Off\, in dem er den Blick des Lesers auf die Figur „Isa“ lenkt. Der Text blieb ein Fragment. Drei Jahre später beging Wolfgang Herrndorf Suizid. \n Tickets\nDer Wiesbadener Schauspieler und Regisseur Ulrich Cyran ist Dozent an der HfMDK Frankfurt a. M. und arbeitet für die Musical Arts Academy Mainz. Er inszeniert und spielt deutschlandweit an diversen Bühnen\, für namhafte Open-Air-Festspiele und ist als Charakterdarsteller in zahlreichen TATORTEN zu sehen. Vor neun Jahren feierte die Presse seine „Tschick“-Inszenierung bei den Burgfestspielen Bad Vilbel. \n  \nMitwirkende:            Julia K. Braun (Schauspiel)\, Vassily Dück (Musik)\, Ulrich Cyran (Regie) \n  \nWeitere Termine: \nSonntag\, 15.03.2026\nDonnerstag\, 19.03.2026\nSonntag\, 22.03.2026\nSonntag\, 29.03.2026\nSamstag\, 18.04.2026 \n\nBdgL_Liegend-3\nBdgL_sitzend\n2026_LIEBE_kh43_6245\n2026_LIEBE_kh43_6255\nBdgL_beide_cool\nBdgL_Kuppel-1\n2026_LIEBE_kh43_6218
URL:https://kuenstlerhaus43.de/event/bilder-deiner-grossen-liebe-premiere/
LOCATION:Theater kuenstlerhaus43 im Palasthotel\, Kochbrunnenplatz 1\, Wiesbaden\, 65183
CATEGORIES:Schauspiel
ATTACH;FMTTYPE=image/png:https://kuenstlerhaus43.de/wp-content/uploads/2026/02/BdgL-3-2.png
ORGANIZER;CN="kuenstlerhaus43":MAILTO:office@kuenstlerhaus43.de
END:VEVENT
BEGIN:VEVENT
DTSTART;TZID=Europe/Berlin:20260315T190000
DTEND;TZID=Europe/Berlin:20260315T213000
DTSTAMP:20260421T073427
CREATED:20260206T092301Z
LAST-MODIFIED:20260224T100623Z
UID:10000772-1773601200-1773610200@kuenstlerhaus43.de
SUMMARY:Bilder deiner großen Liebe
DESCRIPTION:Vom Erfolgsautor von „TSCHICK“: Wolfgang Herrndorf \n  \n„Verrückt sein heißt ja nur\, dass man verrückt ist\, und nicht bescheuert“. \n  \nIsa hat einen Knacks. Das ist der freundliche Ausdruck dafür\, im Hirn nicht ganz gerade zu sein. Deshalb lebt sie hinter einer doppelt gesicherten Tür. Deshalb steht sie an einem Fenster aus Sicherheitsglas. Doch Isa haut ab. Da gibt es die Autobahn\, das brüllende Monster aus Beton. Der ist kalt. Doch Schatten brennen sich auf ihm ein wie eine Tätowierung\, von allen\, die da gehen\, die Isa begegnen: Fremde Fremde und Gestalten sonderbar seltsam. \n  \nEin Road-Movie voller Poesie\, mit so vielen Fragen zu Sinn und Suche\, mal zum Lachen\, mal zum Weinen. „Ich kann mich nicht erinnern. Es gibt ein Bild von mir\, wo ich eine Schultüte habe\, und die Schultüte ist gelb.“ Die Bilder verschwimmen wie die Gedanken verschwimmen schwimmen schwimmen fort. \n  \n„Herrndorfs Poesie ist pur und direkt\, unendlich traurig und berückend schön“\, schreibt die Frankfurter Rundschau. Bekannt wurde der Berliner Autor im Jahr 2010 durch seinen Bestsellerroman „Tschick“. Den Plot über die ungewöhnliche Freundschaft zweier Außenseiter verfilmte Regisseur Fatih Akin. \n  \nHerrndorfs Roman „Bilder deiner großen Liebe“ ist sozusagen ein Spin-Off\, in dem er den Blick des Lesers auf die Figur „Isa“ lenkt. Der Text blieb ein Fragment. Drei Jahre später beging Wolfgang Herrndorf Suizid. \n  \n Tickets\n  \nDer Wiesbadener Schauspieler und Regisseur Ulrich Cyran ist Dozent an der HfMDK Frankfurt a. M. und arbeitet für die Musical Arts Academy Mainz. Er inszeniert und spielt deutschlandweit an diversen Bühnen\, für namhafte Open-Air-Festspiele und ist als Charakterdarsteller in zahlreichen TATORTEN zu sehen. Vor neun Jahren feierte die Presse seine „Tschick“-Inszenierung bei den Burgfestspielen Bad Vilbel. \n  \nMitwirkende:            Julia K. Braun (Schauspiel)\, Vassily Dück (Musik)\, Ulrich Cyran (Regie) \n  \n Weitere Termine\n  \n\nBdgL_Liegend-3\nBdgL_sitzend\n2026_LIEBE_kh43_6245\n2026_LIEBE_kh43_6255\nBdgL_beide_cool\nBdgL_Kuppel-1\n2026_LIEBE_kh43_6218
URL:https://kuenstlerhaus43.de/event/bilder-deiner-grossen-liebe/
LOCATION:Theater kuenstlerhaus43 im Palasthotel\, Kochbrunnenplatz 1\, Wiesbaden\, 65183
CATEGORIES:Schauspiel
ATTACH;FMTTYPE=image/png:https://kuenstlerhaus43.de/wp-content/uploads/2026/02/BdgL-3-2.png
ORGANIZER;CN="kuenstlerhaus43":MAILTO:office@kuenstlerhaus43.de
END:VEVENT
BEGIN:VEVENT
DTSTART;TZID=Europe/Berlin:20260322T190000
DTEND;TZID=Europe/Berlin:20260322T213000
DTSTAMP:20260421T073427
CREATED:20260206T092925Z
LAST-MODIFIED:20260322T192808Z
UID:10000774-1774206000-1774215000@kuenstlerhaus43.de
SUMMARY:Bilder deiner großen Liebe | Ein Abend über Freiheit\, Sehnsucht und Außenseitertum
DESCRIPTION:Isa ist unterwegs. Allein\, eigensinnig\, wach. Sie bricht aus einer Welt aus\, in die sie nicht passt\, und macht sich auf den Weg durch eine raue Landschaft voller seltsamer Begegnungen\, großer Fragen und kurzer Momente von Glück. \nUnsere Inszenierung von „Bilder deiner großen Liebe“ erzählt von Freiheit\, Sehnsucht und dem Versuch\, den eigenen Platz in der Welt zu finden. Mal komisch\, mal traurig\, mal zart und dann wieder wild entsteht ein Theaterabend voller Poesie\, Wucht und unerwarteter Nähe. \nWer „Tschick“ kennt\, begegnet hier einer der eindrucksvollsten Figuren Wolfgang Herrndorfs neu: Isa.Im Zentrum steht eine junge Frau\, die mit scharfem Blick\, verletzlicher Stärke und radikaler Eigenheit auf die Welt schaut. \nEin Abend für alle\, die Theater mögen\, das nah ist\, offen und lange nachhallt. \n Tickets\nDer Wiesbadener Schauspieler und Regisseur Ulrich Cyran ist Dozent an der HfMDK Frankfurt a. M. und arbeitet für die Musical Arts Academy Mainz. Er inszeniert und spielt deutschlandweit an diversen Bühnen\, für namhafte Open-Air-Festspiele und ist als Charakterdarsteller in zahlreichen TATORTEN zu sehen. Vor neun Jahren feierte die Presse seine „Tschick“-Inszenierung bei den Burgfestspielen Bad Vilbel. \n  \nMitwirkende:            Julia K. Braun (Schauspiel)\, Vassily Dück (Musik)\, Ulrich Cyran (Regie) \n  \n Weitere Termine\n  \n\nBdgL_Liegend-3\nBdgL_sitzend\n2026_LIEBE_kh43_6245\n2026_LIEBE_kh43_6255\nBdgL_beide_cool\nBdgL_Kuppel-1\n2026_LIEBE_kh43_6218
URL:https://kuenstlerhaus43.de/event/bilder-deiner-grossen-liebe-3/
LOCATION:Theater kuenstlerhaus43 im Palasthotel\, Kochbrunnenplatz 1\, Wiesbaden\, 65183
CATEGORIES:Schauspiel
ATTACH;FMTTYPE=image/jpeg:https://kuenstlerhaus43.de/wp-content/uploads/2026/01/2026_Bilder_deiner_grossen_Liebe_Johannes_Lay_08584.jpg
ORGANIZER;CN="kuenstlerhaus43":MAILTO:office@kuenstlerhaus43.de
END:VEVENT
BEGIN:VEVENT
DTSTART;TZID=Europe/Berlin:20260329T190000
DTEND;TZID=Europe/Berlin:20260329T213000
DTSTAMP:20260421T073427
CREATED:20260206T093046Z
LAST-MODIFIED:20260323T124051Z
UID:10000775-1774810800-1774819800@kuenstlerhaus43.de
SUMMARY:Bilder deiner großen Liebe | Ein Abend über Freiheit\, Sehnsucht und Außenseitertum
DESCRIPTION:Isa ist unterwegs. Allein\, eigensinnig\, wach. Sie bricht aus einer Welt aus\, in die sie nicht passt\, und macht sich auf den Weg durch eine raue Landschaft voller seltsamer Begegnungen\, großer Fragen und kurzer Momente von Glück. \nUnsere Inszenierung von „Bilder deiner großen Liebe“ erzählt von Freiheit\, Sehnsucht und dem Versuch\, den eigenen Platz in der Welt zu finden. Mal komisch\, mal traurig\, mal zart und dann wieder wild entsteht ein Theaterabend voller Poesie\, Wucht und unerwarteter Nähe. \nWer „Tschick“ kennt\, begegnet hier einer der eindrucksvollsten Figuren Wolfgang Herrndorfs neu: Isa.Im Zentrum steht eine junge Frau\, die mit scharfem Blick\, verletzlicher Stärke und radikaler Eigenheit auf die Welt schaut. \nEin Abend für alle\, die Theater mögen\, das nah ist\, offen und lange nachhallt. \n Tickets\n  \nDer Wiesbadener Schauspieler und Regisseur Ulrich Cyran ist Dozent an der HfMDK Frankfurt a. M. und arbeitet für die Musical Arts Academy Mainz. Er inszeniert und spielt deutschlandweit an diversen Bühnen\, für namhafte Open-Air-Festspiele und ist als Charakterdarsteller in zahlreichen TATORTEN zu sehen. Vor neun Jahren feierte die Presse seine „Tschick“-Inszenierung bei den Burgfestspielen Bad Vilbel. \n Weitere Termine\nMitwirkende:            Julia K. Braun (Schauspiel)\, Vassily Dück (Musik)\, Ulrich Cyran (Regie) \nEine Produktion vom kuenstlerhaus43. \n  \n\n2026_Bilder_deiner_grossen_Liebe_(Johannes_Lay)_08360\n2026_Bilder_deiner_grossen_Liebe_(Johannes_Lay)_08422\n2026_Bilder_deiner_grossen_Liebe_(Johannes_Lay)_08437\n2026_Bilder_deiner_grossen_Liebe_(Johannes_Lay)_08475\n2026_Bilder_deiner_grossen_Liebe_(Johannes_Lay)_08487\n2026_Bilder_deiner_grossen_Liebe_(Johannes_Lay)_08544\n2026_Bilder_deiner_grossen_Liebe_(Johannes_Lay)_08557\n2026_Bilder_deiner_grossen_Liebe_(Johannes_Lay)_08569\n2026_Bilder_deiner_grossen_Liebe_(Johannes_Lay)_08578\n2026_Bilder_deiner_grossen_Liebe_(Johannes_Lay)_08584\n2026_Bilder_deiner_grossen_Liebe_(Johannes_Lay)_08630\n2026_Bilder_deiner_grossen_Liebe_(Johannes_Lay)_08660\n2026_Bilder_deiner_grossen_Liebe_(Johannes_Lay)_08689\n2026_Bilder_deiner_grossen_Liebe_(Johannes_Lay)_08698\n2026_Bilder_deiner_grossen_Liebe_(Johannes_Lay)_08705\n2026_Bilder_deiner_grossen_Liebe_(Johannes_Lay)_08717
URL:https://kuenstlerhaus43.de/event/bilder-deiner-grossen-liebe-4/
LOCATION:Theater kuenstlerhaus43 im Palasthotel\, Kochbrunnenplatz 1\, Wiesbaden\, 65183
CATEGORIES:Schauspiel
ATTACH;FMTTYPE=image/jpeg:https://kuenstlerhaus43.de/wp-content/uploads/2026/01/2026_Bilder_deiner_grossen_Liebe_Johannes_Lay_08584.jpg
ORGANIZER;CN="kuenstlerhaus43":MAILTO:office@kuenstlerhaus43.de
END:VEVENT
END:VCALENDAR