BEGIN:VCALENDAR
VERSION:2.0
PRODID:-//Theater kuenstlerhaus43 im Palasthotel Wiesbaden - ECPv6.11.2//NONSGML v1.0//EN
CALSCALE:GREGORIAN
METHOD:PUBLISH
X-ORIGINAL-URL:https://kuenstlerhaus43.de
X-WR-CALDESC:Veranstaltungen für Theater kuenstlerhaus43 im Palasthotel Wiesbaden
REFRESH-INTERVAL;VALUE=DURATION:PT1H
X-Robots-Tag:noindex
X-PUBLISHED-TTL:PT1H
BEGIN:VTIMEZONE
TZID:Europe/Berlin
BEGIN:DAYLIGHT
TZOFFSETFROM:+0100
TZOFFSETTO:+0200
TZNAME:CEST
DTSTART:20250330T010000
END:DAYLIGHT
BEGIN:STANDARD
TZOFFSETFROM:+0200
TZOFFSETTO:+0100
TZNAME:CET
DTSTART:20251026T010000
END:STANDARD
END:VTIMEZONE
BEGIN:VEVENT
DTSTART;TZID=Europe/Berlin:20250315T193000
DTEND;TZID=Europe/Berlin:20250315T220000
DTSTAMP:20260419T142318
CREATED:20241008T125500Z
LAST-MODIFIED:20250113T135830Z
UID:10000531-1742067000-1742076000@kuenstlerhaus43.de
SUMMARY:1984 - George Orwell | Interaktiv-szenische Diktatur
DESCRIPTION:Winston Smith ist Schriftsteller in einer totalitären Diktatur der Überwachung und Säuberung. Menschen verschwinden\, Worte verschwinden. Die Vergangenheit wird geändert oder ausgemerzt. Das Auge des Großen Bruders schläft nicht. In einer Zeit\, in der Stahlbeton die grünen Wiesen frisst\, passiert Winston etwas\, das längst zertreten wurde: Liebe. Er verliert sein Herz an die viel jüngere Julia. \nBeide schließen sich der Widerstandsgruppe „Bruderschaft“ unter der Leitung des undurchsichtigen George O’Brien an. Sie werden denunziert. Beide geraten zwischen die Mühlsteine des Regimes\, welche Herzen\, Rückgrat\, Geist und Willen brechen will. \nIn einer Zeit der Fake-News\, der Bad News\, des Unwortes „Lügenpresse“ und in einer Zeit der vermeintlichen Gleichschaltung leben wir. Cookies\, ein Mittel der Überwachung? Smartphone hört mit? Meinungsfreiheit? Der gläserne Mensch – Freiheit durch Digitalisierung? Ist staatlich angeregtes Gendern ein Instrument der Kontrolle? \nAber halt. Das klingt alles so negativ. Besuchen Sie uns im Ministerium der Liebe! Wir versichern\, dass es hier keine Überwachung durch Kameras gibt. Im Palasthotel ist unser neuer Standort. Unser bester Mitarbeiter Winston Smith ist seit 1984 für uns tätig. \nJeder Mensch in Wiesbaden ist uns wichtig. Im Ministerium der Liebe helfen wir\, wo wir noch können. Ergreife Partei\, dann greift die Partei Dich. \nDas theater kuenstlerhaus43 im Palast präsentiert eine interaktive szenische Diktatur\, die keiner so schnell vergessen wird: Gnadenlos und mit Augenzwinkern\, des Großen Bruders wohlgemerkt. \n  \n Tickets\n  \n1949: George Orwells Roman „1984“ sprengt den Buchmarkt. Ein utopisches Werk oder Satire? Ein Jahr nach der Veröffentlichung stirbt der Autor an einem rätselhaften Husten. \n1984: Indira Gandhi wird ermordet\, Ronald Reagan verkündet die Bombardierung der Sowjetunion\, der erste Apple-Computer wird vorgestellt und Kim Jong-un erblickt das Licht der Welt. Kabelfernsehen kommt in die Wohnungen. \n2024: Alexa hilft\, Kameras auf den Plätzen schützen\, KI kann dichten und denken\, Digitalisierung statt Arbeit. Krieg allgegenwärtig. Alexei Anatoljewitsch Nawalny stirbt unter rätselhaften Umständen. \n  \nEs spielen:  \nWinston Smith Michael Kehr | Julia Nathalie Trost | O’Brien / Charrington Wolfgang Vielsack | Syme Susanne Müller \nProles-Sängerin Hannah Dickescheid | Televisor / Stimme des Großen Bruders Oscar Müller \nRegie | Wolfgang Vielsack \nRegieassistenz | Hannah Dickescheid \nTechnik / Audio- und Videoinstallation | Moritz Lienenlüke \nStatisterie Rüdiger Burkhardt und weitere \nTextfassung | Wolfgang Vielsack & Uta Kindermann \nProduktion | theater kuenstlerhaus43 im Palast \n  \nWeitere Termine: Di\, 21.01.2025 | Mi\, 22.01.2025 | Do\, 23.01.2025 | Do\, 13.03.2025 | Fr\, 14.03.2025 \n  \n\n1984 (32)\n1984 (41)\n1984 (43)\n1984 (52)\n1984 (75)\n1984 (122)\n1984 (133)\n1984 (170)\n1984 (202)\n1984 (206)\n1984 (210)\n1984 (251)\n1984 (73)\nStraße der Besten\n\n\n\n\n\n \nWinston Smith \nMichael Kehr \nParteihelfer im Registrationsbüro\n\n \nJulia Meyer \nNathalie Trost \nJugend-Agitatorin Jugendliga gegen Sexualität\n\n \nGeorge O’Brien \nWolfgang Vielsack \nVorsitzender des inneren Parteikomitees\n\n \nCatherine Syme \nSusanne Müller \nNeusprech-Lektorin\n\n\n\n \nVictor Bostwick \nMichael Eggersberger \nPolitbüroleiter Budenheim\n\n \nHarriet Fraser \nSunny \n2. Sekretärin der PK Wahrheitsministerium\n\n \nDouglas Lockhart \nRüdiger Burkhardt \nFunktionär im AA\, Sektion Oppenheim\n\n \nGoldie Hoskins \nMoritz Lienenlüke \nTräger des Propaganda-Vaterlandsordens\n\n\n\n \nAbernathy Sterling \nOscar Müller \nHeld*in der Arbeit im 1. Quartal\n\n \nPaula Bloom \nHannah Dickescheid \nDockarbeiterin (Proles)\n\n \nUtah Kidsman \nUta Kindermann \nVorsitzende Pionierorganisation\n\n \nKitty Saunders \nIsabel Singh \n2. Vorsitzende Zivilverteidigung\n\n\n\n​ \n\n2024_GeorgeOrwell_Plakate_NEU_1\n2024_GeorgeOrwell_Plakate_NEU_2\n2024_GeorgeOrwell_Plakate_NEU_3\n2024_GeorgeOrwell_Plakate_NEU_4
URL:https://kuenstlerhaus43.de/event/1984-george-orwell-interaktiv-szenische-diktatur-15/
LOCATION:Theater kuenstlerhaus43 im Palasthotel\, Kochbrunnenplatz 1\, Wiesbaden\, 65183
CATEGORIES:(f)einkunst,Theater
ATTACH;FMTTYPE=image/jpeg:https://kuenstlerhaus43.de/wp-content/uploads/2024/05/Foto_beschriftet_Peter-Krausgrill-scaled.jpeg
ORGANIZER;CN="kuenstlerhaus43":MAILTO:office@kuenstlerhaus43.de
END:VEVENT
BEGIN:VEVENT
DTSTART;TZID=Europe/Berlin:20250319T193000
DTEND;TZID=Europe/Berlin:20250319T220000
DTSTAMP:20260419T142318
CREATED:20241107T114418Z
LAST-MODIFIED:20241203T120357Z
UID:10000559-1742412600-1742421600@kuenstlerhaus43.de
SUMMARY:IMPROLABOR (B) | BASISKURS
DESCRIPTION:8-wöchiger ImproWorkshop für Einsteiger & Wiederholungstäter \n  \n„Einfach mal ausprobieren\, könnte ja gut werden!“. \nDieser Impro-Workshop richtet sich an alle\, die darauf brennen\, Spontanität auf einer Bühne auszuprobieren. Ob im Alltag oder im Beruf! Souverän auf Unvorhergesehenes zu reagieren\, ist keine Kunst\, sondern eine Sache der Übung. \nKursleiter Wolfgang Vielsack gibt Impulse für Körpersprache\, Stimme oder selbstsicheres Auftreten. Es wird viel gelacht und am letzten Kursabend ist es dann so weit: die Werkshow mit Musiker\, die alle begeistert. Publikum\, was aus Freunden\, Bekannten oder Familie besteht belohnt die Teilnehmenden mit viel Applaus. \n  \nImmer mittwochs jeweils 19:30 Uhr:\n05. Februar\n12. Februar\n19. Februar\n26. Februar\n05. März\n12. März\n19. März \nWerkshow\n26. März 2025 um 20 Uhr \nAnmelden \nWenn Du Lust hast dabei zu sein\, dann melde Dich an!\nOb der komplette Kurs oder einzelne Abende\, wir freuen uns auf Dich. \n Anmeldung\nKursgebühr:\n \n  \nKompletter Kurs:\nUnterstützer: 249 €\nOtto-Normalverdiener: 199 €\nFördermitglieder: 9 €\nErmäßigt: 99 € (Sozialhilfeempfänger/Schüler/Studenten bis 27 Jahre) \n  \nNach Absprache mit dem Seminarleiter können ggf auch einzelne Schnuppertage vereinbart werden.\nEinzelabend: 35€ \n  \n  \n\n2022_Dez (184)\n2022_MordinAussicht_Wiedmann_2\nDSCF4229\n2022_Dez (99)-1\nWerkshow_2022_Wolfgang_Gaida
URL:https://kuenstlerhaus43.de/event/improlabor-b-basiskurs-15/
LOCATION:Theater kuenstlerhaus43 im Palasthotel\, Kochbrunnenplatz 1\, Wiesbaden\, 65183
CATEGORIES:Workshop
ATTACH;FMTTYPE=image/jpeg:https://kuenstlerhaus43.de/wp-content/uploads/2024/01/2023_Werkshow_Beginner-34-von-110_slider.jpg
ORGANIZER;CN="kuenstlerhaus43":MAILTO:office@kuenstlerhaus43.de
END:VEVENT
BEGIN:VEVENT
DTSTART;TZID=Europe/Berlin:20250327T193000
DTEND;TZID=Europe/Berlin:20250327T223000
DTSTAMP:20260419T142318
CREATED:20241002T122113Z
LAST-MODIFIED:20250310T105454Z
UID:10000517-1743103800-1743114600@kuenstlerhaus43.de
SUMMARY:Poetry Slam 43
DESCRIPTION:Poetry Slam artet aus! \n  \nEr wird immer kultiger! Die Slammenden werden immer mehr zur Legende! Aus Dummies werden Promis! Aus kleinen Lichtern Szenegrößen! Wir können nicht anders! \n  \n5 Minuten machen zum Sieger! Ein Mikrofon\, ein genialer Text machen unsterblich! Das Publikum entscheidet. Es kann nicht anders. Es trägt den Siegenden auf Händen und schleift den Verlierenden zur Bushaltestelle! Emotion pur! \n  \nGreife nach dem Ticket\, solange es noch frischgedruckt ist! \n  \n Tickets\n  \nGRUPPENTICKETS buchen! Dann sitzt Du in Deiner Fan-Gruppe zusammen: 5 Karten bezahlen und eine gibt es gratis dazu! Drei\, eins\, zwo… Show!!! \n  \nUnser Line Up diesen Monat\n(Fotos von links nach rechts) \n  \nSarah Angelmahr aus Wachenheim an der Weinstraße\nGrohacke aus Weinheim\nAnnika Hofmann aus Hanau\nSammy aus Konstanz\nOskar Schmerschneider aus Mainz \n  \n\nSarah_Angelmahr (privat) (3)_qua\nKarsten Hohage\n2024_September_Poetry_Slam (12 von 28)_Annika Hofmann_qua\nSammy (c)JonasSamsonFotos-2_qua\nOskar_Scherschneider (Mainz)\nFotos: Sammy- (c)JonasSamsonFotos \n  \nWeitere Termine \n27. Februar | 24. April | 28. August | 25. September | 30. Oktober \n  \n\n2022_TiP_Poetry_24112022 (58 von 78)\n2022_TiP_Poetry_24112022 (78 von 78)\n2022_TiP_Poetry_24112022 (18 von 78)\nPoetry_Slam_2022
URL:https://kuenstlerhaus43.de/event/poetry-slam-43-6/
LOCATION:Theater kuenstlerhaus43 im Palasthotel\, Kochbrunnenplatz 1\, Wiesbaden\, 65183
CATEGORIES:Poetry Slam
ATTACH;FMTTYPE=image/jpeg:https://kuenstlerhaus43.de/wp-content/uploads/2024/10/2024_September_Poetry_Slam-13-von-28_Annika-Hofmann.jpg
ORGANIZER;CN="kuenstlerhaus43":MAILTO:office@kuenstlerhaus43.de
END:VEVENT
BEGIN:VEVENT
DTSTART;TZID=Europe/Berlin:20250328T193000
DTEND;TZID=Europe/Berlin:20250328T220000
DTSTAMP:20260419T142318
CREATED:20241111T103439Z
LAST-MODIFIED:20250109T120343Z
UID:10000563-1743190200-1743199200@kuenstlerhaus43.de
SUMMARY:Hotelgeflüster im Palast
DESCRIPTION:… wie einst im Nizza des Nordens // Schauspielrevue inkl. Sektempfang \nVorhang auf! Endlich\, ist es so weit! Nach dreijähriger Bauzeit eröffnet das Palasthotel in Wiesbaden. Nur die Crème de la Crème ist geladen. Stolz begrüßt der findige Hoteldirektor Otto Schick seine Gäste! Franz der Hotelbursche\, fegt die letzten Blätter vom neuen Kunstrasen und trägt die Koffer ins Foyer. Wir befinden uns im Jahr 1905\, in Wiesbaden dem Nizza des Nordens. Otto Schick (Wolfgang Vielsack) lässt die Korken knallen und lädt zum Cocktail (im Eintrittspreis enthalten). \nErleben Sie einen Ritt durch die Geschichte\, des modernsten Hotel Europas mit fließendem Warm-\, Kalt- und Thermalwasser in jedem Zimmer. Und – noch lange vor W-Lan und Flatrate – hatte bereits 1905 jeder Gast einen eigenen Telefonanschluss. \n Tickets\nJosh Platman aus London haucht mit Kontrabass und Klavier der Zeitenwende Leben ein: Klassik\, Schlager der 20-er Jahre\, verbotene Jazzvariationen der 40-er\, Hits der 50-er\, Rock ’n‘ Roll\, Neue Deutsche Welle und Eurovision… für jeden ist was dabei. \nWiener Dauerhotelgast Hans-Christian von Schnack (Jürgen Knittl) und die Hausdame Elisabeth Wollseif (Nathalie Trost) blättern in Archivunterlagen\, deren Wortklang nichts an Aktualität verloren hat. Korrespondenzen aus einer Zeit\, als das Hotel Lazarett\, Kindertagesstätte\, Kosmetikstudio und beinahe Intimes Theater war. \nSchauen Sie durch die Schlüssellöcher! Lauschen Sie der Musik und Literatur. Flanieren Sie zwischen Fotos und Zeitzeugnissen durch einen ungewöhnlichen Kulturabend mit Schauspiel\, Musik & Hotelgeflüster. \nDer „Palast“ gegenüber dem Schwarzen Bock war die Spielwiese der Reichen und Schönen\, Lazarett für Soldaten\, Unterkunft für Amis\, Kindertagesstätte\, Kosmetik-Studio\, Sozialwohnung\, Behörde – bis es vor einem Jahr vom kuenstlerhaus43 zum Theater erkoren wurde. \nSchlaglichter der Geschichte\, würdigen die belebte Vergangenheit des einstigen Wiesbadener Prachthotels. \n  \nEs spielen: Joshua Platman (Musik)\, Nathalie Trost\, Jürgen Knittel\, Wolfgang Vielsack\nRegie: Wolfgang Vielsack\nEndregie: Uta Kindermann\nTechnik: Moritz Lienenlüke\nIdee: Susanne Müller \n  \nWEITERE TERMINE: \n24. Januar 2025 um 19:30 Uhr\n25. Januar 2025 um 19:30 Uhr\n28. Februar 2025 um 19:30 Uhr\n01. März 2025 um 19:30 Uhr\n29. März 2025 um 19:30 Uhr\n11. April 2025 um 19:30 Uhr\n12. April 2025 um 19:30 Uhr \n \n\n2022_Hotelgeflüster_im_Palast_Susanne (71 von 103)\n2022_Hotelgeflüster_im_Palast_Susanne (82 von 103)\n2022_Hotelgeflüster_im_Palast_Susanne (15 von 103)\n2022_Hotelgeflüster_im_Palast_Susanne (8 von 103)\n2022_Hotelgeflüster_im_Palast_Susanne (33 von 103)\n2022_Hotelgeflüster_im_Palast_Susanne (65 von 103)\n2022_Hotelgeflüster_im_Palast_Susanne (95 von 103)\n2022_Hotelgeflüster_im_Palast_Susanne (40 von 103)\n2022_Hotelgeflüster_im_Palast_Susanne (47 von 103)
URL:https://kuenstlerhaus43.de/event/hotelgefluester-im-palast-10/
LOCATION:Theater kuenstlerhaus43 im Palasthotel\, Kochbrunnenplatz 1\, Wiesbaden\, 65183
CATEGORIES:Schauspiel
ATTACH;FMTTYPE=image/jpeg:https://kuenstlerhaus43.de/wp-content/uploads/2022/10/2022_Hotelgefluester_im_Palast_Susanne-54-von-103.jpg
ORGANIZER;CN="kuenstlerhaus43":MAILTO:office@kuenstlerhaus43.de
END:VEVENT
BEGIN:VEVENT
DTSTART;TZID=Europe/Berlin:20250329T193000
DTEND;TZID=Europe/Berlin:20250329T220000
DTSTAMP:20260419T142318
CREATED:20241111T103727Z
LAST-MODIFIED:20250109T120438Z
UID:10000564-1743276600-1743285600@kuenstlerhaus43.de
SUMMARY:Hotelgeflüster im Palast
DESCRIPTION:… wie einst im Nizza des Nordens // Schauspielrevue inkl. Sektempfang \nVorhang auf! Endlich\, ist es so weit! Nach dreijähriger Bauzeit eröffnet das Palasthotel in Wiesbaden. Nur die Crème de la Crème ist geladen. Stolz begrüßt der findige Hoteldirektor Otto Schick seine Gäste! Franz der Hotelbursche\, fegt die letzten Blätter vom neuen Kunstrasen und trägt die Koffer ins Foyer. Wir befinden uns im Jahr 1905\, in Wiesbaden dem Nizza des Nordens. Otto Schick (Wolfgang Vielsack) lässt die Korken knallen und lädt zum Cocktail (im Eintrittspreis enthalten). \nErleben Sie einen Ritt durch die Geschichte\, des modernsten Hotel Europas mit fließendem Warm-\, Kalt- und Thermalwasser in jedem Zimmer. Und – noch lange vor W-Lan und Flatrate – hatte bereits 1905 jeder Gast einen eigenen Telefonanschluss. \n Tickets\nJosh Platman aus London haucht mit Kontrabass und Klavier der Zeitenwende Leben ein: Klassik\, Schlager der 20-er Jahre\, verbotene Jazzvariationen der 40-er\, Hits der 50-er\, Rock ’n‘ Roll\, Neue Deutsche Welle und Eurovision… für jeden ist was dabei. \nWiener Dauerhotelgast Hans-Christian von Schnack (Jürgen Knittl) und die Hausdame Elisabeth Wollseif (Nathalie Trost) blättern in Archivunterlagen\, deren Wortklang nichts an Aktualität verloren hat. Korrespondenzen aus einer Zeit\, als das Hotel Lazarett\, Kindertagesstätte\, Kosmetikstudio und beinahe Intimes Theater war. \nSchauen Sie durch die Schlüssellöcher! Lauschen Sie der Musik und Literatur. Flanieren Sie zwischen Fotos und Zeitzeugnissen durch einen ungewöhnlichen Kulturabend mit Schauspiel\, Musik & Hotelgeflüster. \nDer „Palast“ gegenüber dem Schwarzen Bock war die Spielwiese der Reichen und Schönen\, Lazarett für Soldaten\, Unterkunft für Amis\, Kindertagesstätte\, Kosmetik-Studio\, Sozialwohnung\, Behörde – bis es vor einem Jahr vom kuenstlerhaus43 zum Theater erkoren wurde. \nSchlaglichter der Geschichte\, würdigen die belebte Vergangenheit des einstigen Wiesbadener Prachthotels. \n  \nEs spielen: Joshua Platman (Musik)\, Nathalie Trost\, Jürgen Knittel\, Wolfgang Vielsack\nRegie: Wolfgang Vielsack\nEndregie: Uta Kindermann\nTechnik: Moritz Lienenlüke\nIdee: Susanne Müller \n  \nWEITERE TERMINE: \n24. Januar 2025 um 19:30 Uhr\n25. Januar 2025 um 19:30 Uhr\n28. Februar 2025 um 19:30 Uhr\n01. März 2025 um 19:30 Uhr\n28. März 2025 um 19:30 Uhr\n11. April 2025 um 19:30 Uhr\n12. April 2025 um 19:30 Uhr \n \n\n2022_Hotelgeflüster_im_Palast_Susanne (71 von 103)\n2022_Hotelgeflüster_im_Palast_Susanne (82 von 103)\n2022_Hotelgeflüster_im_Palast_Susanne (15 von 103)\n2022_Hotelgeflüster_im_Palast_Susanne (8 von 103)\n2022_Hotelgeflüster_im_Palast_Susanne (33 von 103)\n2022_Hotelgeflüster_im_Palast_Susanne (65 von 103)\n2022_Hotelgeflüster_im_Palast_Susanne (95 von 103)\n2022_Hotelgeflüster_im_Palast_Susanne (40 von 103)\n2022_Hotelgeflüster_im_Palast_Susanne (47 von 103)
URL:https://kuenstlerhaus43.de/event/hotelgefluester-im-palast-11/
LOCATION:Theater kuenstlerhaus43 im Palasthotel\, Kochbrunnenplatz 1\, Wiesbaden\, 65183
CATEGORIES:Schauspiel
ATTACH;FMTTYPE=image/jpeg:https://kuenstlerhaus43.de/wp-content/uploads/2022/10/2022_Hotelgefluester_im_Palast_Susanne-54-von-103.jpg
ORGANIZER;CN="kuenstlerhaus43":MAILTO:office@kuenstlerhaus43.de
END:VEVENT
END:VCALENDAR