BEGIN:VCALENDAR
VERSION:2.0
PRODID:-//Theater kuenstlerhaus43 im Palasthotel Wiesbaden - ECPv6.11.2//NONSGML v1.0//EN
CALSCALE:GREGORIAN
METHOD:PUBLISH
X-ORIGINAL-URL:https://kuenstlerhaus43.de
X-WR-CALDESC:Veranstaltungen für Theater kuenstlerhaus43 im Palasthotel Wiesbaden
REFRESH-INTERVAL;VALUE=DURATION:PT1H
X-Robots-Tag:noindex
X-PUBLISHED-TTL:PT1H
BEGIN:VTIMEZONE
TZID:Europe/Berlin
BEGIN:DAYLIGHT
TZOFFSETFROM:+0100
TZOFFSETTO:+0200
TZNAME:CEST
DTSTART:20260329T010000
END:DAYLIGHT
BEGIN:STANDARD
TZOFFSETFROM:+0200
TZOFFSETTO:+0100
TZNAME:CET
DTSTART:20261025T010000
END:STANDARD
END:VTIMEZONE
BEGIN:VEVENT
DTSTART;TZID=Europe/Berlin:20260709T200000
DTEND;TZID=Europe/Berlin:20260709T220000
DTSTAMP:20260420T203936
CREATED:20260420T143705Z
LAST-MODIFIED:20260420T143705Z
UID:10000828-1783627200-1783634400@kuenstlerhaus43.de
SUMMARY:Da Capo
DESCRIPTION:Kabarett Leipziger Pfeffermühle: Politische Satire fordert Hirn\, Herz und Zwerchfell heraus. \n  \nDas Theater kuenstlerhaus43 im Palasthotel wartet als Veranstalter der Sommerfestspiele Wiesbaden mit Hochspannung auf das seit über 70 Jahren populäre Kabarett Leipziger Pfeffermühle. \n  \nDie scharfzüngige Dreifaltigkeit von Burkhard Damrau\, Peter Percy und Dieter Richter präsentiert aktuelle Szenen über zwielichtige Gestalten\, Trickser\, Täuscher\, Bauernfänger. Die Tränendrüsen des Publikums werden aufs Äußerste angeregt. Kein Thema bleibt außen vor: Der Staat in den Miesen\, Schwindsucht im Bürgerportemonnaie\, der ungenierte Pleitegeier\, die „Null-Tagewoche“ bei vollem Lohnausgleich. \nEs geht um Fadenscheiniges wie Diäten\, Diffuses wie Rentenkasse\, schöngeredete Umweltprobleme und Massenrodungen von Bäumen\, um weltweit Holzköpfe zu versorgen. \n  \nDamrau\, Percy und Richter schöpfen ihr ganzes schauspielerisches und sängerisches Repertoire aus\, um die verrücktesten Themen humorvoll auf die Bühne zu zaubern. Burg Sonnenberg erlebt eine großartige satirische Herrenpartie mit „da capo- Effekt“ und Lachgarantie! Stünde Burg Sonnenberg nicht seit über 8 Jahrhunderten auf ihrem Fundament\, sie ginge dahin\, wo die Musik spielt\, und dorthin\, wo die Pfeffermühlen mahlen. \n  \n  \n Tickets
URL:https://kuenstlerhaus43.de/event/da-capo/
LOCATION:Burg Sonnenberg\, Talstraße 1\, Wiesbaden\, Hessen\, 65191
CATEGORIES:(f)einkunst,Sommerfestspiele,Theater
ATTACH;FMTTYPE=image/png:https://kuenstlerhaus43.de/wp-content/uploads/2026/04/Da-Capo_3-2.png
ORGANIZER;CN="kuenstlerhaus43":MAILTO:office@kuenstlerhaus43.de
GEO:50.1024666;8.2648582
X-APPLE-STRUCTURED-LOCATION;VALUE=URI;X-ADDRESS=Burg Sonnenberg Talstraße 1 Wiesbaden Hessen 65191;X-APPLE-RADIUS=500;X-TITLE=Talstraße 1:geo:8.2648582,50.1024666
END:VEVENT
BEGIN:VEVENT
DTSTART;TZID=Europe/Berlin:20260710T200000
DTEND;TZID=Europe/Berlin:20260710T230000
DTSTAMP:20260420T203936
CREATED:20260420T141758Z
LAST-MODIFIED:20260420T144333Z
UID:10000827-1783713600-1783724400@kuenstlerhaus43.de
SUMMARY:Per Anhalter durch die Galaxis
DESCRIPTION:Die dramatische Bühne Frankfurt\n  \n Tickets
URL:https://kuenstlerhaus43.de/event/per-anhalter-durch-die-galaxis/
LOCATION:Burg Sonnenberg\, Talstraße 1\, Wiesbaden\, Hessen\, 65191
CATEGORIES:(f)einkunst,Sommerfestspiele,Theater
ATTACH;FMTTYPE=image/png:https://kuenstlerhaus43.de/wp-content/uploads/2026/04/Per-Anhalter-durch-die-Galaxis_3-2.png
ORGANIZER;CN="kuenstlerhaus43":MAILTO:office@kuenstlerhaus43.de
GEO:50.1024666;8.2648582
X-APPLE-STRUCTURED-LOCATION;VALUE=URI;X-ADDRESS=Burg Sonnenberg Talstraße 1 Wiesbaden Hessen 65191;X-APPLE-RADIUS=500;X-TITLE=Talstraße 1:geo:8.2648582,50.1024666
END:VEVENT
BEGIN:VEVENT
DTSTART;TZID=Europe/Berlin:20260711T160000
DTEND;TZID=Europe/Berlin:20260711T170000
DTSTAMP:20260420T203936
CREATED:20260414T155537Z
LAST-MODIFIED:20260414T155537Z
UID:10000811-1783785600-1783789200@kuenstlerhaus43.de
SUMMARY:Momo
DESCRIPTION:Die Uhren gehen dieses Jahr anders bei den Sommerfestspielen auf Burg Sonnenberg vom 14. Juni bis zum 12. Juli. Sie werden beinahe zeitlos sein und das hat einen guten Grund: Momo. Der märchenhafte Roman von Michael Ende wurde 1973 veröffentlicht und kam letztes Jahr in ganz neuer Fassung in die Kinos und jetzt exklusiv nach Wiesbaden-Sonnenberg. \n  \nMomo staunt. Jemand hat die Zeit gestohlen! Kein Mensch bleibt für eine Minute stehen oder träumt nur eine Sekunde. Graue Herren sollen die Diebe gewesen sein\, geheimnisvoll und leise. Momo hat sie gesehen. Schließlich wohnt das Mädchen allein in einer Burgruine. Zusammen mit Meister Hora und der Schildkröte Kassiopeia erlebt Momo viele Abenteuer auf der Suche nach der verlorenen Zeit. \n  \nDie philosophisch-bunte Geschichte mit Live-Musik unter der Regie von Wolfgang Vielsack wird zusammen mit dem bezaubernden Ambiente der über 800 Jahre alten Burg Sonnenberg alle in ihren Bann ziehen. \nFür Schulen und Kindergärten ist der Vorverkauf bereits rasant am Laufen. Noch bis Ende April profitieren KITA-Gruppen und Schulklassen vom Frühbucherrabatt. Aufgrund der hohen Nachfrage gibt es bereits jetzt Termine für Zusatzvorstellungen. \n  \nZudem stehen bei den Sommerfestspielen viele spannende Eigenproduktionen und Gastspiele auf dem Spielplan. Krimizeit ist\, wenn der Impro-Krimi „Mord in Aussicht“ angesagt ist. Wer intelligente Worte und authentische Poesie mag\, der legt sich ein Zeitpolster zu und geht zum „Grand Slam“. Zeit für Emotionen verspricht die intensive Hommage „La môme Piaf“ mit Gesang und Akkordeon. „Vor Ostern startet der offizielle Kartenverkauf“\, informieren die Theatermacher vom kuenstlerhaus43 im Palasthotel. \nErlebnisreiche Zeit bei den Sommerfestspielen zu verbringen\, ist die beste Anlage bei der Zeitkasse. Da sind sich die Veranstalter sicher. \n  \n Tickets\n  \nAlle Nachmittagstermine: \n20./21. Juni \n27./28. Juni \n04. Juli \n11./12. Juli
URL:https://kuenstlerhaus43.de/event/momo-6/
LOCATION:Burg Sonnenberg\, Talstraße 1\, Wiesbaden\, Hessen\, 65191
CATEGORIES:Kindertheater
ATTACH;FMTTYPE=image/png:https://kuenstlerhaus43.de/wp-content/uploads/2026/04/momo_2-3.png
ORGANIZER;CN="kuenstlerhaus43":MAILTO:office@kuenstlerhaus43.de
GEO:50.1024666;8.2648582
X-APPLE-STRUCTURED-LOCATION;VALUE=URI;X-ADDRESS=Burg Sonnenberg Talstraße 1 Wiesbaden Hessen 65191;X-APPLE-RADIUS=500;X-TITLE=Talstraße 1:geo:8.2648582,50.1024666
END:VEVENT
BEGIN:VEVENT
DTSTART;TZID=Europe/Berlin:20260711T200000
DTEND;TZID=Europe/Berlin:20260711T230000
DTSTAMP:20260420T203936
CREATED:20260420T135827Z
LAST-MODIFIED:20260420T144601Z
UID:10000826-1783800000-1783810800@kuenstlerhaus43.de
SUMMARY:Gina & Glinda
DESCRIPTION:Glitzer\, Glamour und spritzige Pointen \n  \nSie tun es wieder: Nach diversen ausverkauften Vorstellungen im Theater kuenstlerhaus43 im Palasthotel erobern die „Fabelhaften Diven“ Gina & Glinda zum dritten Mal Burg Sonnenberg. Ihre Sommershow wird zum Catwalk der Pointen. Die Travestiekünstler präsentieren ein furioses Stöckel-Spektakel. \nSchillernde Outfits\, Esprit und Witz… ein schöner Sommerabend und fertig ist das High(Heel)light der Saison. \n  \nDie Diven brillieren\, schillern und trillern. Sprudelnder Sekt\, sinnige Songs und hüpfende Lachmuskeln… mehr Performance geht nicht. \n  \nDie Show findet bei jedem Wetter statt\, auch bei Vollmond. \n  \n Tickets
URL:https://kuenstlerhaus43.de/event/gina-glinda/
LOCATION:Burg Sonnenberg\, Talstraße 1\, Wiesbaden\, Hessen\, 65191
CATEGORIES:Sommerfestspiele
ATTACH;FMTTYPE=image/jpeg:https://kuenstlerhaus43.de/wp-content/uploads/2026/04/2026_SFS_GinaGlinda_3-2.jpg
ORGANIZER;CN="kuenstlerhaus43":MAILTO:office@kuenstlerhaus43.de
GEO:50.1024666;8.2648582
X-APPLE-STRUCTURED-LOCATION;VALUE=URI;X-ADDRESS=Burg Sonnenberg Talstraße 1 Wiesbaden Hessen 65191;X-APPLE-RADIUS=500;X-TITLE=Talstraße 1:geo:8.2648582,50.1024666
END:VEVENT
BEGIN:VEVENT
DTSTART;TZID=Europe/Berlin:20260712T160000
DTEND;TZID=Europe/Berlin:20260712T170000
DTSTAMP:20260420T203936
CREATED:20260414T155719Z
LAST-MODIFIED:20260414T155719Z
UID:10000812-1783872000-1783875600@kuenstlerhaus43.de
SUMMARY:Momo
DESCRIPTION:Die Uhren gehen dieses Jahr anders bei den Sommerfestspielen auf Burg Sonnenberg vom 14. Juni bis zum 12. Juli. Sie werden beinahe zeitlos sein und das hat einen guten Grund: Momo. Der märchenhafte Roman von Michael Ende wurde 1973 veröffentlicht und kam letztes Jahr in ganz neuer Fassung in die Kinos und jetzt exklusiv nach Wiesbaden-Sonnenberg. \n  \nMomo staunt. Jemand hat die Zeit gestohlen! Kein Mensch bleibt für eine Minute stehen oder träumt nur eine Sekunde. Graue Herren sollen die Diebe gewesen sein\, geheimnisvoll und leise. Momo hat sie gesehen. Schließlich wohnt das Mädchen allein in einer Burgruine. Zusammen mit Meister Hora und der Schildkröte Kassiopeia erlebt Momo viele Abenteuer auf der Suche nach der verlorenen Zeit. \n  \nDie philosophisch-bunte Geschichte mit Live-Musik unter der Regie von Wolfgang Vielsack wird zusammen mit dem bezaubernden Ambiente der über 800 Jahre alten Burg Sonnenberg alle in ihren Bann ziehen. \nFür Schulen und Kindergärten ist der Vorverkauf bereits rasant am Laufen. Noch bis Ende April profitieren KITA-Gruppen und Schulklassen vom Frühbucherrabatt. Aufgrund der hohen Nachfrage gibt es bereits jetzt Termine für Zusatzvorstellungen. \n  \nZudem stehen bei den Sommerfestspielen viele spannende Eigenproduktionen und Gastspiele auf dem Spielplan. Krimizeit ist\, wenn der Impro-Krimi „Mord in Aussicht“ angesagt ist. Wer intelligente Worte und authentische Poesie mag\, der legt sich ein Zeitpolster zu und geht zum „Grand Slam“. Zeit für Emotionen verspricht die intensive Hommage „La môme Piaf“ mit Gesang und Akkordeon. „Vor Ostern startet der offizielle Kartenverkauf“\, informieren die Theatermacher vom kuenstlerhaus43 im Palasthotel. \nErlebnisreiche Zeit bei den Sommerfestspielen zu verbringen\, ist die beste Anlage bei der Zeitkasse. Da sind sich die Veranstalter sicher. \n  \n Tickets\n  \nAlle Nachmittagstermine: \n20./21. Juni \n27./28. Juni \n04. Juli \n11./12. Juli
URL:https://kuenstlerhaus43.de/event/momo-7/
LOCATION:Burg Sonnenberg\, Talstraße 1\, Wiesbaden\, Hessen\, 65191
CATEGORIES:Kindertheater
ATTACH;FMTTYPE=image/png:https://kuenstlerhaus43.de/wp-content/uploads/2026/04/momo_2-3.png
ORGANIZER;CN="kuenstlerhaus43":MAILTO:office@kuenstlerhaus43.de
GEO:50.1024666;8.2648582
X-APPLE-STRUCTURED-LOCATION;VALUE=URI;X-ADDRESS=Burg Sonnenberg Talstraße 1 Wiesbaden Hessen 65191;X-APPLE-RADIUS=500;X-TITLE=Talstraße 1:geo:8.2648582,50.1024666
END:VEVENT
END:VCALENDAR