BEGIN:VCALENDAR
VERSION:2.0
PRODID:-//Theater kuenstlerhaus43 im Palasthotel Wiesbaden - ECPv6.11.2//NONSGML v1.0//EN
CALSCALE:GREGORIAN
METHOD:PUBLISH
X-ORIGINAL-URL:https://kuenstlerhaus43.de
X-WR-CALDESC:Veranstaltungen für Theater kuenstlerhaus43 im Palasthotel Wiesbaden
REFRESH-INTERVAL;VALUE=DURATION:PT1H
X-Robots-Tag:noindex
X-PUBLISHED-TTL:PT1H
BEGIN:VTIMEZONE
TZID:Europe/Berlin
BEGIN:DAYLIGHT
TZOFFSETFROM:+0100
TZOFFSETTO:+0200
TZNAME:CEST
DTSTART:20260329T010000
END:DAYLIGHT
BEGIN:STANDARD
TZOFFSETFROM:+0200
TZOFFSETTO:+0100
TZNAME:CET
DTSTART:20261025T010000
END:STANDARD
END:VTIMEZONE
BEGIN:VEVENT
DTSTART;TZID=Europe/Berlin:20260703T200000
DTEND;TZID=Europe/Berlin:20260703T230000
DTSTAMP:20260422T092059
CREATED:20260420T153331Z
LAST-MODIFIED:20260420T153331Z
UID:10000830-1783108800-1783119600@kuenstlerhaus43.de
SUMMARY:BurgGroove
DESCRIPTION:Straighten Up // Benefiz\n  \nPeppiger Rhythmus\, souliger Blues & zeitloser Jazz. Der Bass! Der Blues! Eine Mission! Die Wiesbadener Straighten-up Band bündelt ihren elementaren Groove\, ihre satten Klangfarben und ihren abwechslungsreichen Sound für ein Benefizkonzert der Superlative. \n  \nDie Einnahmen fließen in die neue Spielstätte des kuenstlerhauses43\, welches seine aktuell bespielten Theaterräume im Palasthotel am Kochbrunnen Ende August aufgeben muss. \n  \nDas Publikum kann sich auf ein facettenschillerndes Programm voller Swing\, Jazz und Blues freuen. Die atemberaubende Kulisse von Burg Sonnenberg badet in nostalgischen Oldies und sonnt sich in gefühlvollen Balladen. \n  \nDer BurgGroove ist ein unvergessliches Füllhorn schöner Melodien und eine Wundertüte der Musikstile. \n  \n Tickets
URL:https://kuenstlerhaus43.de/event/burggroove/
LOCATION:Burg Sonnenberg\, Talstraße 1\, Wiesbaden\, Hessen\, 65191
CATEGORIES:(f)einkunst,Sommerfestspiele,Theater
ATTACH;FMTTYPE=image/png:https://kuenstlerhaus43.de/wp-content/uploads/2026/04/Burg-Groove-2-3.png
ORGANIZER;CN="kuenstlerhaus43":MAILTO:office@kuenstlerhaus43.de
GEO:50.1024666;8.2648582
X-APPLE-STRUCTURED-LOCATION;VALUE=URI;X-ADDRESS=Burg Sonnenberg Talstraße 1 Wiesbaden Hessen 65191;X-APPLE-RADIUS=500;X-TITLE=Talstraße 1:geo:8.2648582,50.1024666
END:VEVENT
BEGIN:VEVENT
DTSTART;TZID=Europe/Berlin:20260704T200000
DTEND;TZID=Europe/Berlin:20260704T230000
DTSTAMP:20260422T092059
CREATED:20260420T150923Z
LAST-MODIFIED:20260420T151506Z
UID:10000829-1783195200-1783206000@kuenstlerhaus43.de
SUMMARY:Sonne\, Sehnsucht\, Dolce Vita
DESCRIPTION:Opera et Cetera \n  \nDas Theater kuenstlerhaus43 im Palasthotel freut sich als Veranstalter der Sommerfestspiele Wiesbaden auf ein opulentes Highlight. Für ein furioses Gastspiel konnte das im Rheingau und in Wiesbaden profilierte Ensemble Opera et Cetera gewonnen werden. \n  \nDas Ensemble präsentiert inmitten der historischen Kulisse Burg Sonnenbergs einen sommerlichen Konzertabend voller Klangfarben und Emotionen. \n  \nDas Programm spannt einen musikalischen Bogen von mediterraner Lebensfreude mit italienischen\, spanischen und französischen Werken bis hin zu den großen Melodien der Neuen Welt: Musical\, Broadway und internationale Klassiker. \n  \nSängerinnen und Sänger bieten ein abwechslungsreiches Repertoire aus Oper\, Operette\, Chanson und populärer Musik. Die unterschiedlichen Stimmen und Stilrichtungen verschmelzen zu einem lebendigen und atmosphärischen Konzerterlebnis. \n  \nDer unvergessliche Abend überrascht mit südlicher Leichtigkeit\, großartigen Stimmen und einer über achthundert Jahre alten Grande Donna: Burg Sonnenberg. \n  \n Tickets
URL:https://kuenstlerhaus43.de/event/opera-et-cetera/
LOCATION:Burg Sonnenberg\, Talstraße 1\, Wiesbaden\, Hessen\, 65191
CATEGORIES:Sommerfestspiele,Theater,(f)einkunst
ATTACH;FMTTYPE=image/png:https://kuenstlerhaus43.de/wp-content/uploads/2026/04/Opera-2-3.png
ORGANIZER;CN="kuenstlerhaus43":MAILTO:office@kuenstlerhaus43.de
GEO:50.1024666;8.2648582
X-APPLE-STRUCTURED-LOCATION;VALUE=URI;X-ADDRESS=Burg Sonnenberg Talstraße 1 Wiesbaden Hessen 65191;X-APPLE-RADIUS=500;X-TITLE=Talstraße 1:geo:8.2648582,50.1024666
END:VEVENT
END:VCALENDAR