BEGIN:VCALENDAR
VERSION:2.0
PRODID:-//Theater kuenstlerhaus43 im Palasthotel Wiesbaden - ECPv6.11.2//NONSGML v1.0//EN
CALSCALE:GREGORIAN
METHOD:PUBLISH
X-ORIGINAL-URL:https://kuenstlerhaus43.de
X-WR-CALDESC:Veranstaltungen für Theater kuenstlerhaus43 im Palasthotel Wiesbaden
REFRESH-INTERVAL;VALUE=DURATION:PT1H
X-Robots-Tag:noindex
X-PUBLISHED-TTL:PT1H
BEGIN:VTIMEZONE
TZID:Europe/Berlin
BEGIN:DAYLIGHT
TZOFFSETFROM:+0100
TZOFFSETTO:+0200
TZNAME:CEST
DTSTART:20250330T010000
END:DAYLIGHT
BEGIN:STANDARD
TZOFFSETFROM:+0200
TZOFFSETTO:+0100
TZNAME:CET
DTSTART:20251026T010000
END:STANDARD
END:VTIMEZONE
BEGIN:VEVENT
DTSTART;TZID=Europe/Berlin:20250511T103000
DTEND;TZID=Europe/Berlin:20250511T140000
DTSTAMP:20260420T045044
CREATED:20250108T131755Z
LAST-MODIFIED:20250507T170652Z
UID:10000587-1746959400-1746972000@kuenstlerhaus43.de
SUMMARY:Le petit déjeuner
DESCRIPTION:Kulinarischer Kulturklassiker – Brunch de Luxe am Muttertag \nWenige Frühstücksrituale sind Kult. Das Le Petit Déjeuner im Theater kuenstlerhaus43 im Palasthotel am Kochbrunnenplatz 1 gehört dazu. \nDie Adlon-Alternative unter Freunden \nEin ehemaliges Luxus-Hotel lädt zum Mitbring-Frühstück. Jede/r bringt das\, was er am besten kann. Entweder steuert man pro Person einen selbstgemachten raffinierten Salat oder einen verführerischen Kuchen für das Buffet bei. Ein buntes Frühstück unter Nachbarn und Freunden. Du kannst nicht kochen oder backen? Kein Problem\, dann kaufst Du dir online oder vor Ort ein Buffet-Ticket. Breakfast your Day! \nSonnendurchfluteter Innenhof \nFlanieren im mediterranen Terrassen-Flair? Plaudern bei Cappuccino? Alles möglich im Kaffeehaus-Ambiente bei mondänen Kulturevents. \n Tickets\n  \nKultur im Kulttheater\nRenoMeno: das sind Imran Khan (Gitarre) und Josh Platman (Kontrabass) und sie sorgen für akustischen Drive. Das Improtheater „La Minute“ improvisiert auf der Bühne und die Maskenbildnerin ist auch vor Ort: Kinderschminken inklusive. \nSchluss mit alltäglicher Krümelei und ab zum stilvollen Déjeuner im Palast! \nHier eine Orientierung für Euch\, was schon auf dem Buffet steht:\ngriechischer Nudelsalat\nAuberginencreme\nKalamata-Oliven\nTrauben-Dattel-Salat\nLinsenhumus\nEierlikörkuchen gerührt\nTeigtaschen herzhaft\nQuiche\nNudelsalat\nObstkuchen mit Sprühsahne\nMandelkuchen\nBlätterteig-Nussschnecken mit Zimtsahne\nNudelsalat mit Fleischwurst\nKuchen\nSalz und Käsegebäck aus Blätterteig\nKuchen\nSpaghettiSalat\nObstsalat\nNudelsalat\nSchoko Muffins\nandere Muffins\nDatteln mit Nüssen\nKuchen\nGebäck\nOliven\, Schafkäse\, getrocknete Tomaten eingelegt in Olivenöl aus der Toskana mit frischen Kräutern [Bio]\nFrischkornmüslie mit Sahne verfeinert [Bio]\nObstsalat mit Erdbeeren\nKräuterquark [Bio]\nMozzarella-Tomaten-Spieße mit Balsamico-Essig und Olivenöl\, frischem Basilikum\nWurstaufschnitt [Bio]\nKäseplatte mit Weintrauben\nFrische Brötchen\nFranzösisches Baguette \n  \nMitwirkende                      Imran Khan | Josh Platman | Wolfgang Vielsack & Ensemble à la minute\nMusik & Theater               Spenden werden erbeten \nBüffetkarten                      selbstgemachtes Mitbringen oder 16/8 € pro Person \nReservierung                    Muttertag@kuenstlerhaus43.de \nEine Veranstaltung im Rahmen der Kulturtage im Bergkirchenviertel mit Unterstützung der Landeshauptstadt Wiesbaden und dem Verein „Theater-kuenstlerhaus43 e.V.“
URL:https://kuenstlerhaus43.de/event/le-petit-dejeuner/
LOCATION:Theater kuenstlerhaus43 im Palasthotel\, Kochbrunnenplatz 1\, Wiesbaden\, 65183
CATEGORIES:Viertelfrühstück
ATTACH;FMTTYPE=image/jpeg:https://kuenstlerhaus43.de/wp-content/uploads/2025/01/Le-petit-dejeuner_Susanne-Mueller_3-2-scaled.jpeg
ORGANIZER;CN="kuenstlerhaus43":MAILTO:office@kuenstlerhaus43.de
END:VEVENT
BEGIN:VEVENT
DTSTART;TZID=Europe/Berlin:20250522T203000
DTEND;TZID=Europe/Berlin:20250522T220000
DTSTAMP:20260420T045044
CREATED:20250225T132322Z
LAST-MODIFIED:20250509T122110Z
UID:10000593-1747945800-1747951200@kuenstlerhaus43.de
SUMMARY:Hitlers Achselschweiß | Zusatzvorstellung gegen das Vergessen
DESCRIPTION:Die Rückmeldungen zur Sonderveranstaltung am 8. Mai anlässlich des 80. Jahrestages des Kriegsendes hat uns dazu bewogen „Hitlers Achselschweiß“ noch einmal kurzfristig auf den Spielplan zu nehmen. Am Do. den 22. Mai findet um 20:30 Uhr eine Zusatzvorstellung statt. \nZwei Kinder\, Michael und Anton könnten nicht unterschiedlicher sein. Der 8-jährige Michael lebt in Ber-lin und Anton in dem kleinen badischen Dorf Ersingen. Sie begegnen sich nie und doch hat die Geschich-te des 3. Reichs ihren Lebensweg geprägt. \nWas macht ein Bonbon am Jackenaufschlag?“\nEin kleiner Junge stellt sie. Michael heißt er\, wohnhaft Berlin Grunewald\, im Jahr 1941. Gauleiter Küppers hat einen Schweißfleck mit dem Grundriss Frankreichs unter dem Arm. Was schwitzt Hitler\, wenn er den Arm hochreißt? Etwa Russland? „ist. Poetisch\, drängend und mit humorvoller Leichtigkeit stellt ihr Pro-tagonist wichtige Fragen zu den Schlaglichtern des Nationalsozialismus\, die nie verglüht sind. Als Inspira-tion diente der Autorin Uta Kindermann das Schicksal Michael Gottschalks\, dessen Vater ein berühmter Schauspieler war\, was ihn nicht davor schützte\, für seine Familie eine fatale Entscheidung zu treffen. \nGanz anders gestalten sich die Kriegsberichte des 16-Jährigen Anton\, der in den letzten Kriegstagen sei-nen Einberufungsbefehl erhält und ohne je einen Schuss abgegeben zu haben in Kriegsgefangenschaft kommt. Wieder und wieder erzählte der erwachsene Anton diese Geschichte 30 Jahre später seinem Sohn Wolfgang Vielsack. Uta Kindermann hat die Erinnerungsfragmente unter dem Titel „Antons Krieg“ als Mosaik literarisch gestaltet.\nDie Inszenierung von Wolfgang Vielsack verwebt beide Zeitzeugnisse zu einer szenischen Lesung mit Musik. \n Tickets\nEs spielen: Patrick Twinem\, Oscar Müller\nMusik: Ako Karim\nRegie: Wolfgang Vielsack\nAutorin: Uta Kindermann\nMaske: Melanie Krombach \nAltersempfehlung: ab 14 Jahren \n  \n\n2025_HitlersAchselschweiss_Probenfoto_1\n2025_HitlersAchselschweiss_Probenfoto_2\n2025_HitlersAchselschweiss_Probenfoto_3\n2025_HitlersAchselschweiss_Probenfoto_4\n2025_HitlersAchselschweiss_Probenfoto_5\n2025_HitlersAchselschweiss_Probenfoto_11\n2025_HitlersAchselschweiss_Probenfoto_6\n\n \n 
URL:https://kuenstlerhaus43.de/event/hitlers-achselschweiss/
LOCATION:Theater kuenstlerhaus43 im Palasthotel\, Kochbrunnenplatz 1\, Wiesbaden\, 65183
CATEGORIES:(f)einkunst
ATTACH;FMTTYPE=image/png:https://kuenstlerhaus43.de/wp-content/uploads/2025/02/Hitlers-Achselschweiss-4-3.png
ORGANIZER;CN="kuenstlerhaus43":MAILTO:office@kuenstlerhaus43.de
END:VEVENT
END:VCALENDAR