BEGIN:VCALENDAR
VERSION:2.0
PRODID:-//Theater kuenstlerhaus43 im Palasthotel Wiesbaden - ECPv6.11.2//NONSGML v1.0//EN
CALSCALE:GREGORIAN
METHOD:PUBLISH
X-WR-CALNAME:Theater kuenstlerhaus43 im Palasthotel Wiesbaden
X-ORIGINAL-URL:https://kuenstlerhaus43.de
X-WR-CALDESC:Veranstaltungen für Theater kuenstlerhaus43 im Palasthotel Wiesbaden
REFRESH-INTERVAL;VALUE=DURATION:PT1H
X-Robots-Tag:noindex
X-PUBLISHED-TTL:PT1H
BEGIN:VTIMEZONE
TZID:Europe/Berlin
BEGIN:DAYLIGHT
TZOFFSETFROM:+0100
TZOFFSETTO:+0200
TZNAME:CEST
DTSTART:20260329T010000
END:DAYLIGHT
BEGIN:STANDARD
TZOFFSETFROM:+0200
TZOFFSETTO:+0100
TZNAME:CET
DTSTART:20261025T010000
END:STANDARD
END:VTIMEZONE
BEGIN:VEVENT
DTSTART;TZID=Europe/Berlin:20260709T200000
DTEND;TZID=Europe/Berlin:20260709T220000
DTSTAMP:20260422T041559
CREATED:20260420T143705Z
LAST-MODIFIED:20260421T115204Z
UID:10000828-1783627200-1783634400@kuenstlerhaus43.de
SUMMARY:Da Capo // Leipziger Pfeffermühle zu Gast
DESCRIPTION:Kabarett Leipziger Pfeffermühle: Politische Satire fordert Hirn\, Herz und Zwerchfell heraus. \nDas Theater kuenstlerhaus43 im Palasthotel wartet als Veranstalter der Sommerfestspiele Wiesbaden mit Hochspannung auf das seit über 70 Jahren populäre Kabarett Leipziger Pfeffermühle. \nDie scharfzüngige Dreifaltigkeit von Burkhard Damrau\, Peter Percy und Dieter Richter präsentiert aktuelle Szenen über zwielichtige Gestalten\, Trickser\, Täuscher\, Bauernfänger. Die Tränendrüsen des Publikums werden aufs Äußerste angeregt. Kein Thema bleibt außen vor: Der Staat in den Miesen\, Schwindsucht im Bürgerportemonnaie\, der ungenierte Pleitegeier\, die „Null-Tagewoche“ bei vollem Lohnausgleich. \nEs geht um Fadenscheiniges wie Diäten\, Diffuses wie Rentenkasse\, schöngeredete Umweltprobleme und Massenrodungen von Bäumen\, um weltweit Holzköpfe zu versorgen. \nDamrau\, Percy und Richter schöpfen ihr ganzes schauspielerisches und sängerisches Repertoire aus\, um die verrücktesten Themen humorvoll auf die Bühne zu zaubern. Burg Sonnenberg erlebt eine großartige satirische Herrenpartie mit „da capo- Effekt“ und Lachgarantie! Stünde Burg Sonnenberg nicht seit über 8 Jahrhunderten auf ihrem Fundament\, sie ginge dahin\, wo die Musik spielt\, und dorthin\, wo die Pfeffermühlen mahlen. \n Tickets
URL:https://kuenstlerhaus43.de/event/da-capo/
LOCATION:Burg Sonnenberg\, Talstraße 1\, Wiesbaden\, Hessen\, 65191
CATEGORIES:(f)einkunst,Sommerfestspiele,Theater
ATTACH;FMTTYPE=image/png:https://kuenstlerhaus43.de/wp-content/uploads/2026/04/Da-Capo_3-2.png
ORGANIZER;CN="kuenstlerhaus43":MAILTO:office@kuenstlerhaus43.de
GEO:50.1024666;8.2648582
X-APPLE-STRUCTURED-LOCATION;VALUE=URI;X-ADDRESS=Burg Sonnenberg Talstraße 1 Wiesbaden Hessen 65191;X-APPLE-RADIUS=500;X-TITLE=Talstraße 1:geo:8.2648582,50.1024666
END:VEVENT
BEGIN:VEVENT
DTSTART;TZID=Europe/Berlin:20260710T200000
DTEND;TZID=Europe/Berlin:20260710T230000
DTSTAMP:20260422T041559
CREATED:20260420T141758Z
LAST-MODIFIED:20260421T113657Z
UID:10000827-1783713600-1783724400@kuenstlerhaus43.de
SUMMARY:Per Anhalter durch die Galaxis // Die dramatische Bühne Frankfurt zu Gast
DESCRIPTION:In der Galaxis ist der Teufel los! Weil die Erde zum Bau einer interplanetarischen Umgehungsstraße gesprengt wird\, machen sich Arthura Dent und ihre Kumpane auf den Weg\, das Universum zu retten. Dabei treffen sie auf den interplanetarischen Schmuggler Zakod Beebleknox und die galaktische Kopfgeldjägerin Trillion\, sie kämpfen mit den bösartigen Intelligenzvertilgungswürmern oder streiten mit depressiven Robotern. Burg Sonnenberg zittert vor einem tolldreisten Science-Fiction-Märchen. \nDie Dramatische Bühne Frankfurt ist ein freies Theater mit festem Ensemble und laufendem Repertoirebetrieb. Sie ist bekannt für ihr Freilichtfestival im Frankfurter Grüneburg-Park und ihren tolldreisten Theatertraum: kostümsatte Geschichten voller Alberei und Tiefsinn\, Komödiantentum und Schmierentheater voller Interpretationswillkür. \n Tickets\nMitwirkende:\nJulian Koenig\, Simone Greiß\, Thorsten Morawietz\, Jeannette Treusch\, Tatjana Edel\, Cornelia Zoeke\, Kristin Mellmann\, Simone Ariana\, Mandy Gibbisch\, Maren Müller\, Chris Kind u. v. a. \n\nPer_Anhalter_durch_die Galaxis_5\nPer_Anhalter_durch_die Galaxis_4\nPer_Anhalter_durch_die Galaxis_3\nPer_Anhalter_durch_die Galaxis_2\nPer_Anhalter_durch_die Galaxis_1
URL:https://kuenstlerhaus43.de/event/per-anhalter-durch-die-galaxis/
LOCATION:Burg Sonnenberg\, Talstraße 1\, Wiesbaden\, Hessen\, 65191
CATEGORIES:(f)einkunst,Sommerfestspiele,Theater
ATTACH;FMTTYPE=image/png:https://kuenstlerhaus43.de/wp-content/uploads/2026/04/Per-Anhalter-durch-die-Galaxis_3-2.png
ORGANIZER;CN="kuenstlerhaus43":MAILTO:office@kuenstlerhaus43.de
GEO:50.1024666;8.2648582
X-APPLE-STRUCTURED-LOCATION;VALUE=URI;X-ADDRESS=Burg Sonnenberg Talstraße 1 Wiesbaden Hessen 65191;X-APPLE-RADIUS=500;X-TITLE=Talstraße 1:geo:8.2648582,50.1024666
END:VEVENT
END:VCALENDAR