BEGIN:VCALENDAR
VERSION:2.0
PRODID:-//Theater kuenstlerhaus43 im Palasthotel Wiesbaden - ECPv6.11.2//NONSGML v1.0//EN
CALSCALE:GREGORIAN
METHOD:PUBLISH
X-ORIGINAL-URL:https://kuenstlerhaus43.de
X-WR-CALDESC:Veranstaltungen für Theater kuenstlerhaus43 im Palasthotel Wiesbaden
REFRESH-INTERVAL;VALUE=DURATION:PT1H
X-Robots-Tag:noindex
X-PUBLISHED-TTL:PT1H
BEGIN:VTIMEZONE
TZID:Europe/Berlin
BEGIN:DAYLIGHT
TZOFFSETFROM:+0100
TZOFFSETTO:+0200
TZNAME:CEST
DTSTART:20250330T010000
END:DAYLIGHT
BEGIN:STANDARD
TZOFFSETFROM:+0200
TZOFFSETTO:+0100
TZNAME:CET
DTSTART:20251026T010000
END:STANDARD
END:VTIMEZONE
BEGIN:VEVENT
DTSTART;TZID=Europe/Berlin:20250627T193000
DTEND;TZID=Europe/Berlin:20250627T230000
DTSTAMP:20260420T083913
CREATED:20250417T114014Z
LAST-MODIFIED:20250610T125248Z
UID:10000655-1751052600-1751065200@kuenstlerhaus43.de
SUMMARY:Open Air Poetry Slam
DESCRIPTION:„Best of“ Dichter*innen von nah daran und nebenan \n  \nFetzig! Furioso! Fulminant! Die Vorbereitungen für das Rockkonzert der Worte umfassen so einige Maßnahmen: reichlich Sonne tanken\, Spundekäs anrühren und Erfrischungen aller Arten mit Eis kühlen. Schließlich geht es um alles und sogar um die Dichterkrone. \n  \nWorte lassen sich nicht verhindern\, sei es als Tattoo\, gekritzelt an die Tapete\, gebrüllt gegen den Sturm\, geflüstert in ein Ohr\, gemalt auf Transparente oder bebildert im Poesie-Album. Wörter wollen Open Air und Dichter sind dichter als gedacht. \n  \nDie Bühne bebt. Das Mikrofon baumelt lose. Erlaubt sind nur eigene Texte und eine Vortragszeit von 7 Minuten. Die Sieger*innen der monatlichen Slams vom Theater kuenstlerhaus43 im Palasthotel messen sich im Wettstreit der Worte. Livemusik garantiert. \n  \nBeim Open Air Poetry Slam am 25. Juni geht um den Goldenen Sonni und um einen Platz im Dichter-Olymp. Es zählen kreative Texte\, Performance pur\, und Authentizität. Eine Fach-Jury entscheidet über Sieg oder Niederlage. \n  \n Tickets\n  \nDie Veranstalter vom Theater kuenstlerhaus43 im Palasthotel versprechen Kulturatmosphäre mit Taubengurren\, Grillenzirpen und dem Duft Rheingauer Weine. \n  \nAls Goethe 1814 auf Burg Sonnenberg weilte\, hat er nur eines vermisst: den Open-Air-Poetry-Slam und seinen Kumpel Schiller. \n  \nLine-Up:\nMarc Bobzin aus Leipzig\nJonas Elpelt aus Oberursel\nEmm aus Frankfurt\nGrohacke aus Heidelberg | Foto: (c) Ben Mischke\nIno aus Wiesbaden\nJulia Wadhawan aus Bad Camberg \n  \nModeration: Wolfgang Vielsack | Alina Stemmerich\nMusik: Christopher Herrmann & Marek Herz\nFotos von links nach rechts \n  \n\nMarc Bobzin_qua\n2025_Poetry_Slam_Januar (Jonas)_Susanne_Müller (5)_qua\n2024_Poetry Slam März (Emm)_2MB_qua\nKarsten Grohacke (Foto_Ben Mischke)_qua_1MB\nIno-black\nJulia_Wadlawan-1\n2024_SFS_Poetry_Slam (14 von 28)_qua\nSFS_2021_Poetry_Slam (38 von 49)\nSFS_2021_Poetry_Slam (39 von 49)\nSpielort: Burg Sonnenberg\, Talstraße 1 in 65191 Wiesbaden\n \n  \nUnsere Sponsoren des Tages: \n  \n\n            \n \n  \n  \n  \n  \n  \n Sommerfestspiele Wiesbaden 2025
URL:https://kuenstlerhaus43.de/event/open-air-poetry-slam/
LOCATION:Burg Sonnenberg\, Talstraße 1\, Wiesbaden\, Hessen\, 65191
CATEGORIES:Sommerfestspiele,Poetry Slam
ATTACH;FMTTYPE=image/jpeg:https://kuenstlerhaus43.de/wp-content/uploads/2025/04/2025_PoetrySlam_Homepage.jpg
ORGANIZER;CN="kuenstlerhaus43":MAILTO:office@kuenstlerhaus43.de
GEO:50.1024666;8.2648582
X-APPLE-STRUCTURED-LOCATION;VALUE=URI;X-ADDRESS=Burg Sonnenberg Talstraße 1 Wiesbaden Hessen 65191;X-APPLE-RADIUS=500;X-TITLE=Talstraße 1:geo:8.2648582,50.1024666
END:VEVENT
BEGIN:VEVENT
DTSTART;TZID=Europe/Berlin:20250628T201500
DTEND;TZID=Europe/Berlin:20250628T221500
DTSTAMP:20260420T083913
CREATED:20250417T112934Z
LAST-MODIFIED:20250523T130924Z
UID:10000654-1751141700-1751148900@kuenstlerhaus43.de
SUMMARY:Mord in Aussicht – der Improkrimi
DESCRIPTION:Kommissar Matschke kehrt zurück \n  \nDieser Mord schreckt Sonnenberg und ganz Wiesbaden. Im Linienbus Richtung Kloppenheim wird sie leblos aufgefunden… die Zeit. Totgeschlagen. Was war die Tatwaffe? Gibt es ein Motiv? Wer schlägt die Zeit tot und flüchtet dann nach Kloppenheim? Als dann noch ein gefälschter Stundungsvertrag für Kommissar Matschkes Dienstwagen auftaucht… läuft ihm die Zeit davon… \nDie Kommissare wirken zeitlos. Sie gehen sich auf den Zeiger. Einer dreht sogar an der Uhr. Und dann ist es auch noch zu spät. \nEin sekundar bedingtes Verbrechen… So könnte es sein. Und auch ganz anders. Sicher ist allein: Zwei Kommissare und jede Menge Verdächtige. \n  \n Tickets\n  \nAlles improvisiert! Es spielen: Hans-Jürgen Geiß\, Jürgen Knittl\, Alina Stemmerich\, Axel Ghane-Basiri\, Wolfgang Vielsack | Improvisierte kreativ-überraschende Live-Musik von Michael Bibo! \n  \n Sommerfestspiele Wiesbaden 2025
URL:https://kuenstlerhaus43.de/event/mord-in-aussicht-der-improkrimi/
LOCATION:Burg Sonnenberg\, Talstraße 1\, Wiesbaden\, Hessen\, 65191
CATEGORIES:Sommerfestspiele,(f)einkunst
ATTACH;FMTTYPE=image/jpeg:https://kuenstlerhaus43.de/wp-content/uploads/2025/04/2025_MordinAussicht_Homepage.jpg
ORGANIZER;CN="kuenstlerhaus43":MAILTO:office@kuenstlerhaus43.de
GEO:50.1024666;8.2648582
X-APPLE-STRUCTURED-LOCATION;VALUE=URI;X-ADDRESS=Burg Sonnenberg Talstraße 1 Wiesbaden Hessen 65191;X-APPLE-RADIUS=500;X-TITLE=Talstraße 1:geo:8.2648582,50.1024666
END:VEVENT
END:VCALENDAR