BEGIN:VCALENDAR
VERSION:2.0
PRODID:-//Theater kuenstlerhaus43 im Palasthotel Wiesbaden - ECPv6.11.2//NONSGML v1.0//EN
CALSCALE:GREGORIAN
METHOD:PUBLISH
X-WR-CALNAME:Theater kuenstlerhaus43 im Palasthotel Wiesbaden
X-ORIGINAL-URL:https://kuenstlerhaus43.de
X-WR-CALDESC:Veranstaltungen für Theater kuenstlerhaus43 im Palasthotel Wiesbaden
REFRESH-INTERVAL;VALUE=DURATION:PT1H
X-Robots-Tag:noindex
X-PUBLISHED-TTL:PT1H
BEGIN:VTIMEZONE
TZID:Europe/Berlin
BEGIN:DAYLIGHT
TZOFFSETFROM:+0100
TZOFFSETTO:+0200
TZNAME:CEST
DTSTART:20260329T010000
END:DAYLIGHT
BEGIN:STANDARD
TZOFFSETFROM:+0200
TZOFFSETTO:+0100
TZNAME:CET
DTSTART:20261025T010000
END:STANDARD
END:VTIMEZONE
BEGIN:VEVENT
DTSTART;TZID=Europe/Berlin:20260303T200000
DTEND;TZID=Europe/Berlin:20260303T220000
DTSTAMP:20260420T030129
CREATED:20250917T082226Z
LAST-MODIFIED:20250917T082226Z
UID:10000700-1772568000-1772575200@kuenstlerhaus43.de
SUMMARY:Werkshow des ImproLabor (A) | Aufbaukurses
DESCRIPTION:8-wöchiger ImproWorkshop für Fortgeschrittene mit abschließender Werkshow \n  \nNun ist es endlich soweit. Nach 7 Kursabenden folgt die Werkshow! \nDer letzte Kursabend auf der Bühne. Mit Musiker werden die Kursteilnehmer alle begeistern. \nDas Publikum besteht aus Freunden\, Bekannten oder Familie und belohnt die Teilnehmenden mit viel Applaus. \n  \nDer Eintritt ist frei. Um Anmeldung wird gebeten. \n Anmeldung\n  \n\n2023_Workshop_Fortgeschrittene_Werkshow (36 von 39)\n2023_Workshop_Fortgeschrittene_Werkshow (34 von 39)\n2023_Workshop_Fortgeschrittene_Werkshow (31 von 39)\n2023_Workshop_Fortgeschrittene_Werkshow (30 von 39)\n2023_Workshop_Fortgeschrittene_Werkshow (27 von 39)\n2023_Workshop_Fortgeschrittene_Werkshow (26 von 39)\n2023_Workshop_Fortgeschrittene_Werkshow (24 von 39)\n2023_Workshop_Fortgeschrittene_Werkshow (21 von 39)\n2023_Workshop_Fortgeschrittene_Werkshow (20 von 39)\n2023_Workshop_Fortgeschrittene_Werkshow (19 von 39)\n2023_Workshop_Fortgeschrittene_Werkshow (15 von 39)\n2023_Workshop_Fortgeschrittene_Werkshow (37 von 39)
URL:https://kuenstlerhaus43.de/event/werkshow-des-improlabor-a-aufbaukurses-3/
LOCATION:Theater kuenstlerhaus43 im Palasthotel\, Kochbrunnenplatz 1\, Wiesbaden\, 65183
CATEGORIES:Workshop
ATTACH;FMTTYPE=image/jpeg:https://kuenstlerhaus43.de/wp-content/uploads/2023/11/2023_Workshop_Fortgeschrittene_Werkshow-1-von-39-1.jpg
ORGANIZER;CN="kuenstlerhaus43":MAILTO:office@kuenstlerhaus43.de
END:VEVENT
END:VCALENDAR